BEGIN:VCALENDAR
VERSION:2.0
PRODID:-//Narrenzunft Bühlingen e.V. - ECPv6.15.20//NONSGML v1.0//EN
CALSCALE:GREGORIAN
METHOD:PUBLISH
X-WR-CALNAME:Narrenzunft Bühlingen e.V.
X-ORIGINAL-URL:https://narrenzunft-buehlingen.de
X-WR-CALDESC:Veranstaltungen für Narrenzunft Bühlingen e.V.
REFRESH-INTERVAL;VALUE=DURATION:PT1H
X-Robots-Tag:noindex
X-PUBLISHED-TTL:PT1H
BEGIN:VTIMEZONE
TZID:Europe/Berlin
BEGIN:DAYLIGHT
TZOFFSETFROM:+0100
TZOFFSETTO:+0200
TZNAME:CEST
DTSTART:20250330T010000
END:DAYLIGHT
BEGIN:STANDARD
TZOFFSETFROM:+0200
TZOFFSETTO:+0100
TZNAME:CET
DTSTART:20251026T010000
END:STANDARD
BEGIN:DAYLIGHT
TZOFFSETFROM:+0100
TZOFFSETTO:+0200
TZNAME:CEST
DTSTART:20260329T010000
END:DAYLIGHT
BEGIN:STANDARD
TZOFFSETFROM:+0200
TZOFFSETTO:+0100
TZNAME:CET
DTSTART:20261025T010000
END:STANDARD
BEGIN:DAYLIGHT
TZOFFSETFROM:+0100
TZOFFSETTO:+0200
TZNAME:CEST
DTSTART:20270328T010000
END:DAYLIGHT
BEGIN:STANDARD
TZOFFSETFROM:+0200
TZOFFSETTO:+0100
TZNAME:CET
DTSTART:20271031T010000
END:STANDARD
BEGIN:DAYLIGHT
TZOFFSETFROM:+0100
TZOFFSETTO:+0200
TZNAME:CEST
DTSTART:20280326T010000
END:DAYLIGHT
BEGIN:STANDARD
TZOFFSETFROM:+0200
TZOFFSETTO:+0100
TZNAME:CET
DTSTART:20281029T010000
END:STANDARD
END:VTIMEZONE
BEGIN:VEVENT
DTSTART;VALUE=DATE:20260425
DTEND;VALUE=DATE:20260426
DTSTAMP:20260421T130400
CREATED:20250325T193901Z
LAST-MODIFIED:20260315T184835Z
UID:356-1777075200-1777161599@narrenzunft-buehlingen.de
SUMMARY:Altmaterialsammlung
DESCRIPTION:Liebe Bürgerinnen und Bürger\, \nder TSV führt zusammen mit der Narrenzunft Bühlingen dieses Jahr wieder seine traditionelle Altmaterialsammlung durch! \nDiese findet am Samstag\, 25.04.2026 in Bühlingen statt. \nWir wären dankbar\, wenn Sie uns wieder in der bisherigen Art und Weise unterstützen würden! \nDer Erlös der Sammlung kommt dem TSV und der Narrenzunft für Ihre Projekte zu Gute. \nWie gewohnt bitten wir Sie\, die Sammelware ab 9.00 Uhr bereitzustellen und idealerweise für unsere Sammlung zu markieren. \nWir sammeln: \nPapier \nAltmetall \nAutobatterien \nNicht mitgenommen werden Elektroschrott\, Kühlgeräte\, Schrottautos\, Reifen (auch nicht auf Felgen) und verschmutzte Öltanks. \n  \nFalls Sie Hilfe benötigen die Sammelware aus dem Keller oder dem Dachboden zu holen\, helfen wir Ihnen gerne. Hierzu gerne Kontakt mit uns aufnehmen. \n  \nBei Fragen zur Sammlung erhalten Sie Auskunft bei: \nAndreas Schlecht\, Tel.: 0741-175 77 68 oder \nRobin Slongo\, Tel.: 0178-1362916 \n  \nEuer Ausschuss vom TSV und der Narrenzunft!
URL:https://narrenzunft-buehlingen.de/event/altmaterialsammlung/
LOCATION:Bühlingen
CATEGORIES:Veranstaltungen
END:VEVENT
BEGIN:VEVENT
DTSTART;VALUE=DATE:20270116
DTEND;VALUE=DATE:20270118
DTSTAMP:20260421T130400
CREATED:20241119T202110Z
LAST-MODIFIED:20260126T200903Z
UID:150-1800057600-1800230399@narrenzunft-buehlingen.de
SUMMARY:Narrentag Elzach
DESCRIPTION:https://narrenzunft-elzach.de/Narrentag-Elzach-2027/
URL:https://narrenzunft-buehlingen.de/event/narrentag-elzach/
LOCATION:Öffentlich
CATEGORIES:Veranstaltungen
END:VEVENT
END:VCALENDAR